BEGIN:VCALENDAR
VERSION:2.0
PRODID:-//First Presbyterian Church of Ottumwa, Iowa - ECPv6.15.20//NONSGML v1.0//EN
CALSCALE:GREGORIAN
METHOD:PUBLISH
X-ORIGINAL-URL:https://www.ottumwafpc.org
X-WR-CALDESC:Events for First Presbyterian Church of Ottumwa, Iowa
REFRESH-INTERVAL;VALUE=DURATION:PT1H
X-Robots-Tag:noindex
X-PUBLISHED-TTL:PT1H
BEGIN:VTIMEZONE
TZID:America/Chicago
BEGIN:DAYLIGHT
TZOFFSETFROM:-0600
TZOFFSETTO:-0500
TZNAME:CDT
DTSTART:20250309T080000
END:DAYLIGHT
BEGIN:STANDARD
TZOFFSETFROM:-0500
TZOFFSETTO:-0600
TZNAME:CST
DTSTART:20251102T070000
END:STANDARD
BEGIN:DAYLIGHT
TZOFFSETFROM:-0600
TZOFFSETTO:-0500
TZNAME:CDT
DTSTART:20260308T080000
END:DAYLIGHT
BEGIN:STANDARD
TZOFFSETFROM:-0500
TZOFFSETTO:-0600
TZNAME:CST
DTSTART:20261101T070000
END:STANDARD
BEGIN:DAYLIGHT
TZOFFSETFROM:-0600
TZOFFSETTO:-0500
TZNAME:CDT
DTSTART:20270314T080000
END:DAYLIGHT
BEGIN:STANDARD
TZOFFSETFROM:-0500
TZOFFSETTO:-0600
TZNAME:CST
DTSTART:20271107T070000
END:STANDARD
END:VTIMEZONE
BEGIN:VEVENT
DTSTART;TZID=America/Chicago:20260511T140000
DTEND;TZID=America/Chicago:20260511T153000
DTSTAMP:20260424T082529
CREATED:20260422T211716Z
LAST-MODIFIED:20260422T211716Z
UID:1794-1778508000-1778513400@www.ottumwafpc.org
SUMMARY:GriefShare
DESCRIPTION:Discover hope and healing from loss with a GriefShare group. Find strength\, new beginnings\, caring connections\, and guidance for healing.  This is an in-person group.  Please use the Red Door off  Third Street.  Begins at 2 pm on Monday\, May 11\, 2026.
URL:https://www.ottumwafpc.org/event/griefshare/
LOCATION:First Presbyterian Church\, 228 W. 4th Street\, Ottumwa\, IA\, 52501\, United States
END:VEVENT
END:VCALENDAR