BEGIN:VCALENDAR
VERSION:2.0
PRODID:-//First Presbyterian Church of Ottumwa, Iowa - ECPv6.15.20//NONSGML v1.0//EN
CALSCALE:GREGORIAN
METHOD:PUBLISH
X-ORIGINAL-URL:https://www.ottumwafpc.org
X-WR-CALDESC:Events for First Presbyterian Church of Ottumwa, Iowa
REFRESH-INTERVAL;VALUE=DURATION:PT1H
X-Robots-Tag:noindex
X-PUBLISHED-TTL:PT1H
BEGIN:VTIMEZONE
TZID:America/Chicago
BEGIN:DAYLIGHT
TZOFFSETFROM:-0600
TZOFFSETTO:-0500
TZNAME:CDT
DTSTART:20230312T080000
END:DAYLIGHT
BEGIN:STANDARD
TZOFFSETFROM:-0500
TZOFFSETTO:-0600
TZNAME:CST
DTSTART:20231105T070000
END:STANDARD
BEGIN:DAYLIGHT
TZOFFSETFROM:-0600
TZOFFSETTO:-0500
TZNAME:CDT
DTSTART:20240310T080000
END:DAYLIGHT
BEGIN:STANDARD
TZOFFSETFROM:-0500
TZOFFSETTO:-0600
TZNAME:CST
DTSTART:20241103T070000
END:STANDARD
BEGIN:DAYLIGHT
TZOFFSETFROM:-0600
TZOFFSETTO:-0500
TZNAME:CDT
DTSTART:20250309T080000
END:DAYLIGHT
BEGIN:STANDARD
TZOFFSETFROM:-0500
TZOFFSETTO:-0600
TZNAME:CST
DTSTART:20251102T070000
END:STANDARD
BEGIN:DAYLIGHT
TZOFFSETFROM:-0600
TZOFFSETTO:-0500
TZNAME:CDT
DTSTART:20260308T080000
END:DAYLIGHT
BEGIN:STANDARD
TZOFFSETFROM:-0500
TZOFFSETTO:-0600
TZNAME:CST
DTSTART:20261101T070000
END:STANDARD
END:VTIMEZONE
BEGIN:VEVENT
DTSTART;TZID=America/Chicago:20251111T093000
DTEND;TZID=America/Chicago:20251111T170000
DTSTAMP:20260422T123904
CREATED:20251025T095257Z
LAST-MODIFIED:20251025T095257Z
UID:1701-1762853400-1762880400@www.ottumwafpc.org
SUMMARY:Presbytery Meeting
DESCRIPTION:The 537th Stated Meeting of the Presbytery of Des Moines will be held at 9:30 a.m. on Tuesday\, November 11\, 2025\, at First Presbyterian Church\, 228 W 4th Street\, Ottumwa\, Iowa. \nThe meeting will be offered as an in-person meeting with livestream observer access. \nThose observing the meeting via livestream will not have voice or vote. Those on livestream may access the presbytery meeting materials on the presbytery website www.dmpresbytery.org. Those on livestream may access the meeting via the church’s YouTube channel\, which can be accessed at https://www.youtube.com/@FPCOttumwa/live. \nIn-person attendees\, including minister members\, ruling elder commissioners and visitors must register on-line at 2025 Presbytery Meeting Registration – Presbytery of Des Moines by noon on Monday\, November 3\, 2025\, if you want lunch\, or by noon on Monday\, November 10\, 2025\, if you do not want lunch. Soon after registering you should receive a confirmation email. Please be sure to check your spam or junk folder if you do not find the email in your inbox.\nLunch will be offered for those attending in-person. The cost of the lunch is $15.00 payable to First Presbyterian Church. If you plan to eat the lunch provided\, you MUST register by noon on Monday\, November 3\, 2025. If you register after November 3 lunch availability cannot be guaranteed.
URL:https://www.ottumwafpc.org/event/presbytery-meeting/
LOCATION:First Presbyterian Church\, 228 W. 4th Street\, Ottumwa\, IA\, 52501\, United States
END:VEVENT
BEGIN:VEVENT
DTSTART;TZID=America/Chicago:20251104T160000
DTEND;TZID=America/Chicago:20251104T190000
DTSTAMP:20260422T123904
CREATED:20251027T162548Z
LAST-MODIFIED:20251027T162810Z
UID:1709-1762272000-1762282800@www.ottumwafpc.org
SUMMARY:Election Day Soup Supper 11-2 & 4-7
DESCRIPTION:Featured Offerings: \nVegetable Beef Soup\, Chile\, Cornbread\, Italian Bread\, Cookies Pie and other desserts\, Water\, coffee and Iced Tea \nFree Will offering will benefit the Scouts of Ottumwa \nOttumwa Cub Scout Pack 2 and Boy Scout Troop 2 are proud to be continuing the Hospice House’s annual Election Day Soup Supper \nLunch 11 – 2 \nSupper 4 – 7
URL:https://www.ottumwafpc.org/event/election-day-soup-supper/
LOCATION:First Presbyterian Church\, 228 W. 4th Street\, Ottumwa\, IA\, 52501\, United States
END:VEVENT
BEGIN:VEVENT
DTSTART;TZID=America/Chicago:20250420T100000
DTEND;TZID=America/Chicago:20250420T110000
DTSTAMP:20260422T123904
CREATED:20250221T180228Z
LAST-MODIFIED:20250221T181741Z
UID:1599-1745143200-1745146800@www.ottumwafpc.org
SUMMARY:Easter Sunday
DESCRIPTION:Lots to celebrate! We celebrate the Risen Christ\, \nand we Confirm several young people on this day.
URL:https://www.ottumwafpc.org/event/easter-sunday/
LOCATION:IA
END:VEVENT
BEGIN:VEVENT
DTSTART;TZID=America/Chicago:20250418T180000
DTEND;TZID=America/Chicago:20250418T190000
DTSTAMP:20260422T123904
CREATED:20250221T174704Z
LAST-MODIFIED:20250221T175055Z
UID:1594-1744999200-1745002800@www.ottumwafpc.org
SUMMARY:Good Friday Worship Service
DESCRIPTION:A quiet\, solemn\, meaningful service to remember Christ’s sacrifice for us. \nAll are Welcome!
URL:https://www.ottumwafpc.org/event/good-friday-wor/
LOCATION:IA
END:VEVENT
BEGIN:VEVENT
DTSTART;TZID=America/Chicago:20250417T180000
DTEND;TZID=America/Chicago:20250417T190000
DTSTAMP:20260422T123904
CREATED:20250221T172848Z
LAST-MODIFIED:20250221T172848Z
UID:1586-1744912800-1744916400@www.ottumwafpc.org
SUMMARY:Maunday Thursday Worship Service
DESCRIPTION:
URL:https://www.ottumwafpc.org/event/maunday-thursday-worship-service/
LOCATION:IA
END:VEVENT
BEGIN:VEVENT
DTSTART;TZID=America/Chicago:20250326T100000
DTEND;TZID=America/Chicago:20250326T113000
DTSTAMP:20260422T123904
CREATED:20250221T182706Z
LAST-MODIFIED:20250221T183351Z
UID:1613-1742983200-1742988600@www.ottumwafpc.org
SUMMARY:Wednesday Bible Study
DESCRIPTION:In the :Lounge downstairs;  use the red door on Third St.
URL:https://www.ottumwafpc.org/event/wednesday-bible-study-4/
LOCATION:IA
END:VEVENT
BEGIN:VEVENT
DTSTART;TZID=America/Chicago:20250319T100000
DTEND;TZID=America/Chicago:20250319T113000
DTSTAMP:20260422T123904
CREATED:20250221T182435Z
LAST-MODIFIED:20250221T182540Z
UID:1610-1742378400-1742383800@www.ottumwafpc.org
SUMMARY:Wednesday Bible Study
DESCRIPTION:In the Lounge downstairs;  use the red door on Third St.
URL:https://www.ottumwafpc.org/event/wednesday-bible-study-3/
LOCATION:IA
END:VEVENT
BEGIN:VEVENT
DTSTART;TZID=America/Chicago:20250305T180000
DTEND;TZID=America/Chicago:20250305T190000
DTSTAMP:20260422T123904
CREATED:20250221T163250Z
LAST-MODIFIED:20250305T174548Z
UID:1569-1741197600-1741201200@www.ottumwafpc.org
SUMMARY:Ash Wednesday Service CANCELLED
DESCRIPTION:Ash Wednesday begins the time of Lent which lasts until Easter Sunday.  Join us for a simple service of music\, scripture\, and the imposition of the ashes as we begin this very special time as Christians
URL:https://www.ottumwafpc.org/event/ash-wednesday-service/
LOCATION:IA
END:VEVENT
BEGIN:VEVENT
DTSTART;TZID=America/Chicago:20250305T100000
DTEND;TZID=America/Chicago:20250305T113000
DTSTAMP:20260422T123904
CREATED:20250221T172633Z
LAST-MODIFIED:20250221T182251Z
UID:1583-1741168800-1741174200@www.ottumwafpc.org
SUMMARY:Wednesday Bible Study
DESCRIPTION:In the Lounge downstairs; use the red door on Third St.
URL:https://www.ottumwafpc.org/event/wednesday-bible-study-2/
LOCATION:IA
END:VEVENT
BEGIN:VEVENT
DTSTART;TZID=America/Chicago:20250302T090000
DTEND;TZID=America/Chicago:20250302T094500
DTSTAMP:20260422T123904
CREATED:20250221T164540Z
LAST-MODIFIED:20250221T164540Z
UID:1573-1740906000-1740908700@www.ottumwafpc.org
SUMMARY:End Times Bible Study
DESCRIPTION:Plan Now...to join in an 8-week study designed to help discover what God is speaking to you through His Word. The study\, “End Times: Practical Heavenly Mindedness” (by R. Paul Stevens)\, utilizes Old and New Testament references from the Beginning of the Church (Acts) to the Return of Christ for His Church. (Revelation 21). \n*When– Sunday\, March 2nd through Sun. April 27\, 2025 (No class on Easter) \n*Time– 9:00 a.m. to 9:45 a.m. \n*Place– Church Lounge (Lower Level) \n*Study Leaders– Roger and Marilynn Russ \n*Sign-Up- by Mon. Feb. 24\, 2025 (Sheet in back of church or call office\, 641-684-5465; study guides will be available.)
URL:https://www.ottumwafpc.org/event/end-times-bible-study/
LOCATION:IA
END:VEVENT
BEGIN:VEVENT
DTSTART;TZID=America/Chicago:20250302T080000
DTEND;TZID=America/Chicago:20250302T170000
DTSTAMP:20260422T123904
CREATED:20250221T162849Z
LAST-MODIFIED:20250221T173047Z
UID:1566-1740902400-1740934800@www.ottumwafpc.org
SUMMARY:Communion
DESCRIPTION:
URL:https://www.ottumwafpc.org/event/communion-3/
LOCATION:IA
END:VEVENT
BEGIN:VEVENT
DTSTART;TZID=America/Chicago:20250226T100000
DTEND;TZID=America/Chicago:20250226T113000
DTSTAMP:20260422T123904
CREATED:20250221T172506Z
LAST-MODIFIED:20250221T172506Z
UID:1581-1740564000-1740569400@www.ottumwafpc.org
SUMMARY:Wednesday Bible Study
DESCRIPTION:
URL:https://www.ottumwafpc.org/event/wednesday-bible-study/
LOCATION:IA
END:VEVENT
BEGIN:VEVENT
DTSTART;TZID=America/Chicago:20250224T150000
DTEND;TZID=America/Chicago:20250224T173000
DTSTAMP:20260422T123904
CREATED:20250113T174140Z
LAST-MODIFIED:20250218T161541Z
UID:1500-1740409200-1740418200@www.ottumwafpc.org
SUMMARY:Food Pantry
DESCRIPTION:February 20 Food Pantry is POSTPONED until Monday\, February 24 from 2 until ??? due to the extreme cold temperatures. \nFood Pantry at First Presbyterian Church. 228 W. 4th Street\, Ottumwa\, IA\, from 3 pm until 5:30 or for the first 300 clients.   This is the Third Thursday of the month.  Enter the parking lot from 4th Street\,    Parking lot will open at 2:00 pm    Bring photo ID with you. A box of food will be provided for each household that qualifies within  income guidelines  established by the Department of Health and Human Services.  We ask for your name\, number in household and ages of household members.  Sign in will be completed from the parking lot as usual.  New clients will register in the church.  ALL clients must bring an ID.
URL:https://www.ottumwafpc.org/event/food-pantry-3/
LOCATION:IA
END:VEVENT
BEGIN:VEVENT
DTSTART;TZID=America/Chicago:20240407T130000
DTEND;TZID=America/Chicago:20240407T173000
DTSTAMP:20260422T123904
CREATED:20240321T185417Z
LAST-MODIFIED:20240321T191308Z
UID:1131-1712494800-1712511000@www.ottumwafpc.org
SUMMARY:Organ Competition 2024
DESCRIPTION:1:00 pm Introduction to the organ\, facilitated by Matthew Penning\, held in Sanctuary 1:30 pm Organ Competition\, held in Sanctuary\nReception following the competition\, held in Fellowship Hall.\nAwards presented following judges’ decisions\, held in Fellowship Hall.
URL:https://www.ottumwafpc.org/event/organ-competition-2024/
LOCATION:First Presbyterian Church\, 228 W. 4th Street\, Ottumwa\, IA\, 52501\, United States
END:VEVENT
BEGIN:VEVENT
DTSTART;TZID=America/Chicago:20240406T130000
DTEND;TZID=America/Chicago:20240406T143000
DTSTAMP:20260422T123904
CREATED:20240321T184604Z
LAST-MODIFIED:20240321T191452Z
UID:1125-1712408400-1712413800@www.ottumwafpc.org
SUMMARY:Organist Workshop
DESCRIPTION:1:00 pm Workshop for organists\, facilitated by Dr. Cindy Lindeen-Martin\, held at St. Mary of the Visitation\, 4th Street\, Ottumwa\, Iowa
URL:https://www.ottumwafpc.org/event/organist-workshop/
LOCATION:First Presbyterian Church\, 228 W. 4th Street\, Ottumwa\, IA\, 52501\, United States
END:VEVENT
BEGIN:VEVENT
DTSTART;TZID=America/Chicago:20240406T100000
DTEND;TZID=America/Chicago:20240406T120000
DTSTAMP:20260422T123904
CREATED:20240321T184042Z
LAST-MODIFIED:20240321T191541Z
UID:1122-1712397600-1712404800@www.ottumwafpc.org
SUMMARY:Pipes and Pizza
DESCRIPTION:Saturday\, April 610:00 am Pipes and Pizza\, students in 3rd grade on up\, held at St. Mary of the Visitation\, 4th street\, Ottumwa\, Iowa
URL:https://www.ottumwafpc.org/event/pipes-and-pizza/
LOCATION:First Presbyterian Church\, 228 W. 4th Street\, Ottumwa\, IA\, 52501\, United States
END:VEVENT
BEGIN:VEVENT
DTSTART;TZID=America/Chicago:20240405T180000
DTEND;TZID=America/Chicago:20240405T180000
DTSTAMP:20260422T123904
CREATED:20240321T183535Z
LAST-MODIFIED:20240321T183622Z
UID:1118-1712340000-1712340000@www.ottumwafpc.org
SUMMARY:Organ Competition Event
DESCRIPTION:Friday\, April 5\n6:00 pm Congregational Potluck Supper\, held in Fellowship Hall 7:30 pm Recital by Dr. Cindy Lindeen-Martin\, held in Sanctuary Reception\, following the recital\, held in Fellowship Hall
URL:https://www.ottumwafpc.org/event/organ-competition-event/
LOCATION:First Presbyterian Church\, 228 W. 4th Street\, Ottumwa\, IA\, 52501\, United States
END:VEVENT
BEGIN:VEVENT
DTSTART;TZID=America/Chicago:20240124T100000
DTEND;TZID=America/Chicago:20240124T110000
DTSTAMP:20260422T123904
CREATED:20240212T150815Z
LAST-MODIFIED:20240313T211424Z
UID:835-1706090400-1706094000@www.ottumwafpc.org
SUMMARY:Adult Bible Study
DESCRIPTION:Beginning on Wednesday\, January 24\, at 10:00 am\, the Adult Bible Study will begin a new study on the book of Romans\, “Life Lessons from Romans; God’s Big Picture” by Max Lucado. This is a 12-session study on Paul’s letter to the Romans. This group meets in the Lounge. Come and join us!!!
URL:https://www.ottumwafpc.org/event/adult-bible-study-2/
LOCATION:First Presbyterian Church\, 228 W. 4th Street\, Ottumwa\, IA\, 52501\, United States
END:VEVENT
BEGIN:VEVENT
DTSTART;TZID=America/Chicago:20240124T100000
DTEND;TZID=America/Chicago:20240124T110000
DTSTAMP:20260422T123904
CREATED:20240212T150815Z
LAST-MODIFIED:20240313T211424Z
UID:835-1706090400-1706094000@www.ottumwafpc.org
SUMMARY:Adult Bible Study
DESCRIPTION:Beginning on Wednesday\, January 24\, at 10:00 am\, the Adult Bible Study will begin a new study on the book of Romans\, “Life Lessons from Romans; God’s Big Picture” by Max Lucado. This is a 12-session study on Paul’s letter to the Romans. This group meets in the Lounge. Come and join us!!!
URL:https://www.ottumwafpc.org/event/adult-bible-study-2/
LOCATION:First Presbyterian Church\, 228 W. 4th Street\, Ottumwa\, IA\, 52501\, United States
END:VEVENT
BEGIN:VEVENT
DTSTART;TZID=America/Chicago:20240124T100000
DTEND;TZID=America/Chicago:20240124T110000
DTSTAMP:20260422T123904
CREATED:20240212T150815Z
LAST-MODIFIED:20240313T211424Z
UID:835-1706090400-1706094000@www.ottumwafpc.org
SUMMARY:Adult Bible Study
DESCRIPTION:Beginning on Wednesday\, January 24\, at 10:00 am\, the Adult Bible Study will begin a new study on the book of Romans\, “Life Lessons from Romans; God’s Big Picture” by Max Lucado. This is a 12-session study on Paul’s letter to the Romans. This group meets in the Lounge. Come and join us!!!
URL:https://www.ottumwafpc.org/event/adult-bible-study-2/
LOCATION:First Presbyterian Church\, 228 W. 4th Street\, Ottumwa\, IA\, 52501\, United States
END:VEVENT
BEGIN:VEVENT
DTSTART;TZID=America/Chicago:20240124T100000
DTEND;TZID=America/Chicago:20240124T110000
DTSTAMP:20260422T123904
CREATED:20240212T150815Z
LAST-MODIFIED:20240313T211424Z
UID:835-1706090400-1706094000@www.ottumwafpc.org
SUMMARY:Adult Bible Study
DESCRIPTION:Beginning on Wednesday\, January 24\, at 10:00 am\, the Adult Bible Study will begin a new study on the book of Romans\, “Life Lessons from Romans; God’s Big Picture” by Max Lucado. This is a 12-session study on Paul’s letter to the Romans. This group meets in the Lounge. Come and join us!!!
URL:https://www.ottumwafpc.org/event/adult-bible-study-2/
LOCATION:First Presbyterian Church\, 228 W. 4th Street\, Ottumwa\, IA\, 52501\, United States
END:VEVENT
BEGIN:VEVENT
DTSTART;TZID=America/Chicago:20240124T100000
DTEND;TZID=America/Chicago:20240124T110000
DTSTAMP:20260422T123904
CREATED:20240212T150815Z
LAST-MODIFIED:20240313T211424Z
UID:835-1706090400-1706094000@www.ottumwafpc.org
SUMMARY:Adult Bible Study
DESCRIPTION:Beginning on Wednesday\, January 24\, at 10:00 am\, the Adult Bible Study will begin a new study on the book of Romans\, “Life Lessons from Romans; God’s Big Picture” by Max Lucado. This is a 12-session study on Paul’s letter to the Romans. This group meets in the Lounge. Come and join us!!!
URL:https://www.ottumwafpc.org/event/adult-bible-study-2/
LOCATION:First Presbyterian Church\, 228 W. 4th Street\, Ottumwa\, IA\, 52501\, United States
END:VEVENT
BEGIN:VEVENT
DTSTART;TZID=America/Chicago:20240124T100000
DTEND;TZID=America/Chicago:20240124T110000
DTSTAMP:20260422T123904
CREATED:20240212T150815Z
LAST-MODIFIED:20240313T211424Z
UID:835-1706090400-1706094000@www.ottumwafpc.org
SUMMARY:Adult Bible Study
DESCRIPTION:Beginning on Wednesday\, January 24\, at 10:00 am\, the Adult Bible Study will begin a new study on the book of Romans\, “Life Lessons from Romans; God’s Big Picture” by Max Lucado. This is a 12-session study on Paul’s letter to the Romans. This group meets in the Lounge. Come and join us!!!
URL:https://www.ottumwafpc.org/event/adult-bible-study-2/
LOCATION:First Presbyterian Church\, 228 W. 4th Street\, Ottumwa\, IA\, 52501\, United States
END:VEVENT
BEGIN:VEVENT
DTSTART;TZID=America/Chicago:20240124T100000
DTEND;TZID=America/Chicago:20240124T110000
DTSTAMP:20260422T123904
CREATED:20240212T150815Z
LAST-MODIFIED:20240313T211424Z
UID:835-1706090400-1706094000@www.ottumwafpc.org
SUMMARY:Adult Bible Study
DESCRIPTION:Beginning on Wednesday\, January 24\, at 10:00 am\, the Adult Bible Study will begin a new study on the book of Romans\, “Life Lessons from Romans; God’s Big Picture” by Max Lucado. This is a 12-session study on Paul’s letter to the Romans. This group meets in the Lounge. Come and join us!!!
URL:https://www.ottumwafpc.org/event/adult-bible-study-2/
LOCATION:First Presbyterian Church\, 228 W. 4th Street\, Ottumwa\, IA\, 52501\, United States
END:VEVENT
BEGIN:VEVENT
DTSTART;VALUE=DATE:20240106
DTEND;VALUE=DATE:20240107
DTSTAMP:20260422T123904
CREATED:20240102T153312Z
LAST-MODIFIED:20240313T211621Z
UID:458-1704499200-1704585599@www.ottumwafpc.org
SUMMARY:Communion
DESCRIPTION:Holy Communion is celebrated on the first Sunday of every month. The Lord’s Table is open to all.
URL:https://www.ottumwafpc.org/event/communion/
LOCATION:First Presbyterian Church\, 228 W. 4th Street\, Ottumwa\, IA\, 52501\, United States
CATEGORIES:Communion
ATTACH;FMTTYPE=image/jpeg:https://www.ottumwafpc.org/wp-content/uploads/2024/01/Communion-Table-scaled.jpg
END:VEVENT
BEGIN:VEVENT
DTSTART;TZID=America/Chicago:20240124T100000
DTEND;TZID=America/Chicago:20240124T110000
DTSTAMP:20260422T123904
CREATED:20240212T150815Z
LAST-MODIFIED:20240313T211424Z
UID:835-1706090400-1706094000@www.ottumwafpc.org
SUMMARY:Adult Bible Study
DESCRIPTION:Beginning on Wednesday\, January 24\, at 10:00 am\, the Adult Bible Study will begin a new study on the book of Romans\, “Life Lessons from Romans; God’s Big Picture” by Max Lucado. This is a 12-session study on Paul’s letter to the Romans. This group meets in the Lounge. Come and join us!!!
URL:https://www.ottumwafpc.org/event/adult-bible-study-2/
LOCATION:First Presbyterian Church\, 228 W. 4th Street\, Ottumwa\, IA\, 52501\, United States
END:VEVENT
BEGIN:VEVENT
DTSTART;TZID=America/Chicago:20240124T100000
DTEND;TZID=America/Chicago:20240124T110000
DTSTAMP:20260422T123904
CREATED:20240212T150815Z
LAST-MODIFIED:20240313T211424Z
UID:835-1706090400-1706094000@www.ottumwafpc.org
SUMMARY:Adult Bible Study
DESCRIPTION:Beginning on Wednesday\, January 24\, at 10:00 am\, the Adult Bible Study will begin a new study on the book of Romans\, “Life Lessons from Romans; God’s Big Picture” by Max Lucado. This is a 12-session study on Paul’s letter to the Romans. This group meets in the Lounge. Come and join us!!!
URL:https://www.ottumwafpc.org/event/adult-bible-study-2/
LOCATION:First Presbyterian Church\, 228 W. 4th Street\, Ottumwa\, IA\, 52501\, United States
END:VEVENT
BEGIN:VEVENT
DTSTART;VALUE=DATE:20240106
DTEND;VALUE=DATE:20240107
DTSTAMP:20260422T123904
CREATED:20240102T153312Z
LAST-MODIFIED:20240313T211621Z
UID:458-1704499200-1704585599@www.ottumwafpc.org
SUMMARY:Communion
DESCRIPTION:Holy Communion is celebrated on the first Sunday of every month. The Lord’s Table is open to all.
URL:https://www.ottumwafpc.org/event/communion/
LOCATION:First Presbyterian Church\, 228 W. 4th Street\, Ottumwa\, IA\, 52501\, United States
CATEGORIES:Communion
ATTACH;FMTTYPE=image/jpeg:https://www.ottumwafpc.org/wp-content/uploads/2024/01/Communion-Table-scaled.jpg
END:VEVENT
END:VCALENDAR