BEGIN:VCALENDAR
VERSION:2.0
PRODID:-//First Presbyterian Church of Ottumwa, Iowa - ECPv6.15.20//NONSGML v1.0//EN
CALSCALE:GREGORIAN
METHOD:PUBLISH
X-WR-CALNAME:First Presbyterian Church of Ottumwa, Iowa
X-ORIGINAL-URL:https://www.ottumwafpc.org
X-WR-CALDESC:Events for First Presbyterian Church of Ottumwa, Iowa
REFRESH-INTERVAL;VALUE=DURATION:PT1H
X-Robots-Tag:noindex
X-PUBLISHED-TTL:PT1H
BEGIN:VTIMEZONE
TZID:America/Chicago
BEGIN:DAYLIGHT
TZOFFSETFROM:-0600
TZOFFSETTO:-0500
TZNAME:CDT
DTSTART:20250309T080000
END:DAYLIGHT
BEGIN:STANDARD
TZOFFSETFROM:-0500
TZOFFSETTO:-0600
TZNAME:CST
DTSTART:20251102T070000
END:STANDARD
BEGIN:DAYLIGHT
TZOFFSETFROM:-0600
TZOFFSETTO:-0500
TZNAME:CDT
DTSTART:20260308T080000
END:DAYLIGHT
BEGIN:STANDARD
TZOFFSETFROM:-0500
TZOFFSETTO:-0600
TZNAME:CST
DTSTART:20261101T070000
END:STANDARD
BEGIN:DAYLIGHT
TZOFFSETFROM:-0600
TZOFFSETTO:-0500
TZNAME:CDT
DTSTART:20270314T080000
END:DAYLIGHT
BEGIN:STANDARD
TZOFFSETFROM:-0500
TZOFFSETTO:-0600
TZNAME:CST
DTSTART:20271107T070000
END:STANDARD
END:VTIMEZONE
BEGIN:VEVENT
DTSTART;TZID=America/Chicago:20260713T140000
DTEND;TZID=America/Chicago:20260713T153000
DTSTAMP:20260425T061417
CREATED:20260423T202223Z
LAST-MODIFIED:20260423T202223Z
UID:1832-1783951200-1783956600@www.ottumwafpc.org
SUMMARY:GriefShare
DESCRIPTION:Discover hope and healing from loss with a GriefShare group. Find strength\, new beginnings\, caring connections\, and guidance for healing.  This is an in-person group.  Please use the Red Door off  Third Street.  Week 10
URL:https://www.ottumwafpc.org/event/griefshare-11/
END:VEVENT
END:VCALENDAR